BEGIN:VCALENDAR
VERSION:2.0
PRODID:-//Tukios.com/
BEGIN:VEVENT
UID:f6416b05-1f73-4a2d-a579-4352bad92ebd@www.balesfh.com
DTSTAMP:20260423T181716Z
DTSTART:20260425
SUMMARY:Burial
DESCRIPTION:
URL:https://www.balesfh.com/obituaries/rondall-bucky-brewer
LOCATION: 7371 Camden Road  Camden OH 45311
GEO:39.640014;-84.642416
END:VEVENT
END:VCALENDAR