BEGIN:VCALENDAR
VERSION:2.0
PRODID:-//Tukios.com/
BEGIN:VEVENT
UID:5ecc4e70-d955-4006-9475-65e261503ec4@www.balesfh.com
DTSTAMP:20260423T182332Z
DTSTART:20260425T183000Z
DTEND:20260425T193000Z
SUMMARY:Funeral Service
DESCRIPTION:
URL:https://www.balesfh.com/obituaries/rondall-bucky-brewer
LOCATION: 35 North Liberty Street  Camden OH 45311
GEO:39.6292772;-84.6515907
END:VEVENT
END:VCALENDAR