BEGIN:VCALENDAR
VERSION:2.0
PRODID:-//Tukios.com/
BEGIN:VEVENT
UID:4efb669c-5a62-4b1e-b7e0-4c23b13c93b8@www.balesfh.com
DTSTAMP:20260423T182138Z
DTSTART:20260425T160000Z
DTEND:20260425T183000Z
SUMMARY:Visitation
DESCRIPTION:
URL:https://www.balesfh.com/obituaries/rondall-bucky-brewer
LOCATION: 35 North Liberty Street  Camden OH 45311
GEO:39.6292772;-84.6515907
END:VEVENT
END:VCALENDAR